BEGIN:VCALENDAR
PRODID:-//Microsoft Corporation//Outlook 12.0 MIMEDIR//EN
VERSION:2.0
CALSCALE:GREGORIAN
BEGIN:VEVENT
UID: c7f6adcb-c3a2-42d0-8cf9-aa216c01afa9
SUMMARY:Tartu rahulepingu 104 aastapäev 
DTSTAMP:20240202
DTSTART:20240202
DTEND:20240203
DURATION:P1D
LOCATION:
DESCRIPTION: <p><strong>Link: </strong>https://www.paistukool.ee/et/sundmuste-kalender/tartu-rahulepingu-104-aastapaev</p><p><strong>Hind: </strong></p>
STATUS:CONFIRMED
SEQUENCE:3
X-ALT-DESC;FMTTYPE=text/html:<p><strong>Link: </strong>https://www.paistukool.ee/et/sundmuste-kalender/tartu-rahulepingu-104-aastapaev</p><p><strong>Hind: </strong></p>
X-MICROSOFT-CDO-BUSYSTATUS:OOF
X-MICROSOFT-CDO-IMPORTANCE:1
X-MICROSOFT-DISALLOW-COUNTER:FALSE
X-MS-OLK-ALLOWEXTERNCHECK:TRUE
X-MS-OLK-CONFTYPE:0
X-MICROSOFT-CDO-ALLDAYEVENT:1
X-MICROSOFT-MSNCALENDAR-ALLDAYEVENT:1
END:VEVENT
END:VCALENDAR