BEGIN:VCALENDAR
PRODID:-//Microsoft Corporation//Outlook 12.0 MIMEDIR//EN
VERSION:2.0
CALSCALE:GREGORIAN
BEGIN:VEVENT
UID: 29ff9fc2-75d5-4faa-a5c7-c27fa4fbda58
SUMMARY:Kodanikupäev. Rahatarkus
DTSTAMP:20231127
DTSTART:20231127
DTEND:20231128
DURATION:P1D
LOCATION:
DESCRIPTION: <p><strong>Link: </strong>https://www.paistukool.ee/et/sundmuste-kalender/kodanikupaev-rahatarkus</p><p><strong>Hind: </strong></p>
STATUS:CONFIRMED
SEQUENCE:3
X-ALT-DESC;FMTTYPE=text/html:<p><strong>Link: </strong>https://www.paistukool.ee/et/sundmuste-kalender/kodanikupaev-rahatarkus</p><p><strong>Hind: </strong></p>
X-MICROSOFT-CDO-BUSYSTATUS:OOF
X-MICROSOFT-CDO-IMPORTANCE:1
X-MICROSOFT-DISALLOW-COUNTER:FALSE
X-MS-OLK-ALLOWEXTERNCHECK:TRUE
X-MS-OLK-CONFTYPE:0
X-MICROSOFT-CDO-ALLDAYEVENT:1
X-MICROSOFT-MSNCALENDAR-ALLDAYEVENT:1
END:VEVENT
END:VCALENDAR